BEGIN:VCALENDAR
VERSION:2.0
PRODID:-//pretix//pretix.eu//
BEGIN:VTIMEZONE
TZID:Europe/Berlin
BEGIN:STANDARD
DTSTART:20001029T040000
RRULE:FREQ=YEARLY;BYDAY=-1SU;BYMONTH=10
TZNAME:CET
TZOFFSETFROM:+0200
TZOFFSETTO:+0100
END:STANDARD
BEGIN:DAYLIGHT
DTSTART:20000326T030000
RRULE:FREQ=YEARLY;BYDAY=-1SU;BYMONTH=3
TZNAME:CEST
TZOFFSETFROM:+0100
TZOFFSETTO:+0200
END:DAYLIGHT
END:VTIMEZONE
BEGIN:VEVENT
UID:pretix-academy-MACHT-WIDERSTAND-4714381@tickets.academy-buehnenkunstsch
 ule.de
DTSTART;TZID=Europe/Berlin:20251128T190000
DTEND;TZID=Europe/Berlin:20251128T213000
DESCRIPTION:Tickets: https://tickets.academy-buehnenkunstschule.de/MACHT-WI
 DERSTAND/4714381/\nVeranstalter: ACADEMY Bühnenkunstschule Berlin
DTSTAMP:20260425T160817Z
LOCATION:Axel-Springer-Straße 40/41\, 10969 Berlin
SUMMARY:GRUPPE EVA MAMLOK – JUNGE WIDERSTANDSKÄMPFERINNEN AUS KREUZBERG 
 (BEGEGNUNG)
END:VEVENT
END:VCALENDAR
