BEGIN:VCALENDAR
VERSION:2.0
PRODID:-//pretix//pretix.eu//
BEGIN:VTIMEZONE
TZID:Europe/Berlin
BEGIN:STANDARD
DTSTART:20001029T040000
RRULE:FREQ=YEARLY;BYDAY=-1SU;BYMONTH=10
TZNAME:CET
TZOFFSETFROM:+0200
TZOFFSETTO:+0100
END:STANDARD
BEGIN:DAYLIGHT
DTSTART:20000326T030000
RRULE:FREQ=YEARLY;BYDAY=-1SU;BYMONTH=3
TZNAME:CEST
TZOFFSETFROM:+0100
TZOFFSETTO:+0200
END:DAYLIGHT
END:VTIMEZONE
BEGIN:VEVENT
UID:pretix-academy-MACHT-WIDERSTAND-4753090@tickets.academy-buehnenkunstsch
 ule.de
DTSTART;TZID=Europe/Berlin:20260125T193000
DTEND;TZID=Europe/Berlin:20260125T210000
DESCRIPTION:Tickets: https://tickets.academy-buehnenkunstschule.de/MACHT-WI
 DERSTAND/4753090/\nVeranstalter: ACADEMY Bühnenkunstschule Berlin
DTSTAMP:20260422T235708Z
LOCATION:Axel-Springer-Straße 40/41\, 10969 Berlin
SUMMARY:Vorstellung MACHT WIDERSTAND
END:VEVENT
END:VCALENDAR
