BEGIN:VCALENDAR
VERSION:2.0
PRODID:-//pretix//pretix.eu//
BEGIN:VTIMEZONE
TZID:Europe/Berlin
BEGIN:STANDARD
DTSTART:20001029T040000
RRULE:FREQ=YEARLY;BYDAY=-1SU;BYMONTH=10
TZNAME:CET
TZOFFSETFROM:+0200
TZOFFSETTO:+0100
END:STANDARD
BEGIN:DAYLIGHT
DTSTART:20000326T030000
RRULE:FREQ=YEARLY;BYDAY=-1SU;BYMONTH=3
TZNAME:CEST
TZOFFSETFROM:+0100
TZOFFSETTO:+0200
END:DAYLIGHT
END:VTIMEZONE
BEGIN:VEVENT
UID:pretix-academy-monster-4811787@tickets.academy-buehnenkunstschule.de
DTSTART;TZID=Europe/Berlin:20260322T160000
DTEND;TZID=Europe/Berlin:20260322T170000
DESCRIPTION:Tickets: https://tickets.academy-buehnenkunstschule.de/monster/
 4811787/\nEinlass: 22.03.2026 15:45\nVeranstalter: ACADEMY Bühnenkunstsch
 ule Berlin
DTSTAMP:20260422T204345Z
LOCATION:ACADEMY Bühnenkunstschule\, > Alte Feuerwache e.V.\, Axel-Springe
 r-Straße 40/41\, 10969 Berlin
SUMMARY:MONSTER - eine Trilogie (DK+DE+NL Performances)
END:VEVENT
END:VCALENDAR
